BEGIN:VCALENDAR
VERSION:2.0
PRODID:-//Институт развития ребенка - ECPv6.10.0//NONSGML v1.0//EN
CALSCALE:GREGORIAN
METHOD:PUBLISH
X-WR-CALNAME:Институт развития ребенка
X-ORIGINAL-URL:https://irzar.ru
X-WR-CALDESC:Мероприятия для Институт развития ребенка
REFRESH-INTERVAL;VALUE=DURATION:PT1H
X-Robots-Tag:noindex
X-PUBLISHED-TTL:PT1H
BEGIN:VTIMEZONE
TZID:Europe/Moscow
BEGIN:STANDARD
TZOFFSETFROM:+0300
TZOFFSETTO:+0300
TZNAME:MSK
DTSTART:20260101T000000
END:STANDARD
END:VTIMEZONE
BEGIN:VEVENT
DTSTART;TZID=Europe/Moscow:20260427T110000
DTEND;TZID=Europe/Moscow:20260427T130000
DTSTAMP:20260423T150309
CREATED:20260413T160853Z
LAST-MODIFIED:20260413T160853Z
UID:10000146-1777287600-1777294800@irzar.ru
SUMMARY:Семинар «Межведомственное сопровождение молодых семей в рамках реализации пилотного проекта\, направленного на стимулирование рождаемости в Пензенской области в 2026 году»
DESCRIPTION:
URL:https://irzar.ru/event/seminar-mezhvedomstvennoe-soprovozhdenie-molodyh-semej-v-ramkah-realizaczii-pilotnogo-proekta-napravlennogo-na-stimulirovanie-rozhdaemosti-v-penzenskoj-oblasti-v-2026-godu/
CATEGORIES:Семинар
END:VEVENT
BEGIN:VEVENT
DTSTART;TZID=Europe/Moscow:20260428T110000
DTEND;TZID=Europe/Moscow:20260428T130000
DTSTAMP:20260423T150309
CREATED:20260413T162010Z
LAST-MODIFIED:20260413T162010Z
UID:10000147-1777374000-1777381200@irzar.ru
SUMMARY:Семинар «Межведомственное сопровождение молодых семей в рамках реализации пилотного проекта\, направленного на стимулирование рождаемости в Новгородской области в 2026 году»
DESCRIPTION:
URL:https://irzar.ru/event/seminar-mezhvedomstvennoe-soprovozhdenie-molodyh-semej-v-ramkah-realizaczii-pilotnogo-proekta-napravlennogo-na-stimulirovanie-rozhdaemosti-v-novgorodskoj-oblasti-v-2026-godu/
CATEGORIES:Семинар
END:VEVENT
BEGIN:VEVENT
DTSTART;TZID=Europe/Moscow:20260429T100000
DTEND;TZID=Europe/Moscow:20260429T120000
DTSTAMP:20260423T150309
CREATED:20260303T124842Z
LAST-MODIFIED:20260303T124842Z
UID:10000139-1777456800-1777464000@irzar.ru
SUMMARY:Всероссийский семинар\, посвященный Году дошкольного образования «Традиционные российские духовно-нравственные ценности в системе дошкольного образования»
DESCRIPTION:
URL:https://irzar.ru/event/vserossijskij-seminar-posvyashhennyj-godu-doshkolnogo-obrazovaniya-tradiczionnye-rossijskie-duhovno-nravstvennye-czennosti-v-sisteme-doshkolnogo-obrazovaniya/
CATEGORIES:Семинар
END:VEVENT
BEGIN:VEVENT
DTSTART;TZID=Europe/Moscow:20260528T130000
DTEND;TZID=Europe/Moscow:20260528T160000
DTSTAMP:20260423T150309
CREATED:20260210T083937Z
LAST-MODIFIED:20260210T084042Z
UID:10000135-1779973200-1779984000@irzar.ru
SUMMARY:Всероссийский семинар\, посвящённый Году дошкольного образования\, в рамках V Научно-практическая конференция «Что и как читают наши дети?»
DESCRIPTION:
URL:https://irzar.ru/event/vserossijskij-seminar-posvyashhennyj-godu-doshkolnogo-obrazovaniya-v-ramkah-v-nauchno-prakticheskaya-konferencziya-chto-i-kak-chitayut-nashi-deti/
CATEGORIES:Семинар
END:VEVENT
BEGIN:VEVENT
DTSTART;TZID=Europe/Moscow:20260529T100000
DTEND;TZID=Europe/Moscow:20260529T120000
DTSTAMP:20260423T150309
CREATED:20260303T125119Z
LAST-MODIFIED:20260303T125119Z
UID:10000140-1780048800-1780056000@irzar.ru
SUMMARY:Всероссийский семинар\, посвященный Году дошкольного образования «Лучшие практики просветительской деятельности в дошкольной образовательной организации»
DESCRIPTION:
URL:https://irzar.ru/event/vserossijskij-seminar-posvyashhennyj-godu-doshkolnogo-obrazovaniya-luchshie-praktiki-prosvetitelskoj-deyatelnosti-v-doshkolnoj-obrazovatelnoj-organizaczii/
CATEGORIES:Семинар
END:VEVENT
BEGIN:VEVENT
DTSTART;TZID=Europe/Moscow:20260625T110000
DTEND;TZID=Europe/Moscow:20260625T130000
DTSTAMP:20260423T150309
CREATED:20260303T125411Z
LAST-MODIFIED:20260303T125411Z
UID:10000141-1782385200-1782392400@irzar.ru
SUMMARY:Всероссийский семинар\, посвященный Году дошкольного образования «Патриотическое и гражданское воспитание в дошкольной образовательной организации «Родина начинается с нас»
DESCRIPTION:
URL:https://irzar.ru/event/vserossijskij-seminar-posvyashhennyj-godu-doshkolnogo-obrazovaniya-patrioticheskoe-i-grazhdanskoe-vospitanie-v-doshkolnoj-obrazovatelnoj-organizaczii-rodina-nachinaetsya-s-nas/
CATEGORIES:Семинар
END:VEVENT
BEGIN:VEVENT
DTSTART;TZID=Europe/Moscow:20260925T090000
DTEND;TZID=Europe/Moscow:20260925T170000
DTSTAMP:20260423T150309
CREATED:20260210T083606Z
LAST-MODIFIED:20260210T083606Z
UID:10000134-1790326800-1790355600@irzar.ru
SUMMARY:IX Всероссийский съезд работников дошкольного образования
DESCRIPTION:
URL:https://irzar.ru/event/ix-vserossijskij-sezd-rabotnikov-doshkolnogo-obrazovaniya/
CATEGORIES:Съезд
END:VEVENT
BEGIN:VEVENT
DTSTART;TZID=Europe/Moscow:20261022T090000
DTEND;TZID=Europe/Moscow:20261022T170000
DTSTAMP:20260423T150309
CREATED:20260210T084725Z
LAST-MODIFIED:20260210T084725Z
UID:10000136-1792659600-1792688400@irzar.ru
SUMMARY:III Международная научно-практическая конференция «Междисциплинарные исследования проблем развития и здоровья ребенка»
DESCRIPTION:
URL:https://irzar.ru/event/iii-mezhdunarodnaya-nauchno-prakticheskaya-konferencziya-mezhdiscziplinarnye-issledovaniya-problem-razvitiya-i-zdorovya-rebenka/
CATEGORIES:Конференции
END:VEVENT
END:VCALENDAR